Workbook

Sheet Introduction
F5: Harmonised Transparency Template
F7: Polska
F8: ING Bank Hipoteczny Spółka Akcyjna
F9: Reporting Date: 21/10/20
F10: Cut-off Date: 30/09/20
F22: Index
D24: Worksheet A: HTT General | E24: Tab 1: Harmonised Transparency Template
D26: Worksheet B1: HTT Mortgage Assets
D28: Worksheet C: HTT Harmonised Glossary | E28: Tab 1: Harmonised Transparency Template

Sheet A. HTT General
A1: A. Harmonised Transparency Template - General Information
B3: Reporting in Domestic Currency | C3: PLN
B5: CONTENT OF TAB A
B6: 1. Basic Facts
B7: 2. Regulatory Summary
B8: 3. General Cover Pool / Covered Bond Information | F8: `
B9: 4. References to Capital Requirements Regulation (CRR) 129(7)
B10: 5. References to Capital Requirements Regulation (CRR) 129(1)
B11: 6. Other relevant information
A13: Field Number | B13: 1. Basic Facts
A14: G.1.1.1 | B14: Country | C14: Polska
A15: G.1.1.2 | B15: Issuer Name | C15: ING Bank Hipoteczny Spółka Akcyjna
A16: G.1.1.3 | B16: Link to Issuer's Website | C16: https://www.inghipoteczny.pl
A17: G.1.1.4 | B17: Cut-off date | C17: 30/09/20
A18: OG.1.1.1 | B18: Optional information e.g. Contact names | C18: Michał Dumicz Treasurer M: + 48 887 661 631 E: michal.dumicz@inghipoteczny.pl
A19: OG.1.1.2 | B19: Optional information e.g. Parent name | C19: ING Bank Śląski Spółka Akcyjna
A20: OG.1.1.3
A21: OG.1.1.4
A22: OG.1.1.5
A23: OG.1.1.6
A24: OG.1.1.7
A25: OG.1.1.8
B26: 2. Regulatory Summary
A27: G.2.1.1 | B27: UCITS Compliance (Y/N) | C27: Y
A28: G.2.1.2 | B28: CRR Compliance (Y/N) | C28: Y
A29: G.2.1.3 | B29: NBP repo eligibility | C29: Yes; ISIN: XS2063297423
A30: OG.2.1.1 | B30: Solvency II compliance | C30: Yes
A31: OG.2.1.2
A32: OG.2.1.3
A33: OG.2.1.4
A34: OG.2.1.5
A35: OG.2.1.6
B36: 3. General Cover Pool / Covered Bond Information
B37: 1.General Information | C37: Nominal (mn)
A38: G.3.1.1 | B38: Cover Pool Size | C38: =C58 -> 2.9933761e+09
A39: G.3.1.2 | B39: Outstanding Covered Bonds | C39: 400000000
A40: OG.3.1.1 | B40: Cover Pool Size [NPV] (mn) | C40: ND1
A41: OG.3.1.2 | B41: Outstanding Covered Bonds [NPV] (mn) | C41: ND1
A42: OG.3.1.3
A43: OG.3.1.4
...

Sheet B1. HTT Mortgage Assets
A1: B1. Harmonised Transparency Template - Mortgage Assets
B3: Reporting in Domestic Currency | C3: PLN
B5: CONTENT OF TAB B1
B6: 7. Mortgage Assets
B7: 7.A Residential Cover Pool
B8: 7.B Commercial Cover Pool
A10: Field Number | B10: 7. Mortgage Assets
B11: 1. Property Type Information | C11: Nominal (mn) | F11: % Total Mortgages
A12: M.7.1.1 | B12: Residential | C12: 2.9818227e+09 | F12: =IF($C$15=0,"",IF(C12="[for completion]","",C12/$C$15)) -> 1
A13: M.7.1.2 | B13: Commercial | C13: 0 | F13: =IF($C$15=0,"",IF(C13="[for completion]","",C13/$C$15)) -> 0
A14: M.7.1.3 | B14: Other | C14: 0 | F14: =IF($C$15=0,"",IF(C14="[for completion]","",C14/$C$15)) -> 0
A15: M.7.1.4 | B15: Total | C15: =SUM(C12:C14) -> 2.9818227e+09 | F15: =SUM(F12:F14) -> 1
A16: OM.7.1.1 | B16: o/w Housing Cooperatives / Multi-family assets | F16: =IF($C$15=0,"",IF(C16="","",C16/$C$15))
A17: OM.7.1.2 | B17: o/w Forest & Agriculture | F17: =IF($C$15=0,"",IF(C17="","",C17/$C$15))
A18: OM.7.1.3 | B18: o/w [If relevant, please specify] | F18: =IF($C$15=0,"",IF(C18="","",C18/$C$15))
A19: OM.7.1.4 | B19: o/w [If relevant, please specify] | F19: =IF($C$15=0,"",IF(C19="","",C19/$C$15))
A20: OM.7.1.5 | B20: o/w [If relevant, please specify] | F20: =IF($C$15=0,"",IF(C20="","",C20/$C$15))
A21: OM.7.1.6 | B21: o/w [If relevant, please specify] | F21: =IF($C$15=0,"",IF(C21="","",C21/$C$15))
A22: OM.7.1.7 | B22: o/w [If relevant, please specify] | F22: =IF($C$15=0,"",IF(C22="","",C22/$C$15))
A23: OM.7.1.8 | B23: o/w [If relevant, please specify] | F23: =IF($C$15=0,"",IF(C23="","",C23/$C$15))
A24: OM.7.1.9 | B24: o/w [If relevant, please specify] | F24: =IF($C$15=0,"",IF(C24="","",C24/$C$15))
A25: OM.7.1.10 | B25: o/w [If relevant, please specify] | F25: =IF($C$15=0,"",IF(C25="","",C25/$C$15))
A26: OM.7.1.11 | B26: o/w [If relevant, please specify] | F26: =IF($C$15=0,"",IF(C26="","",C26/$C$15))
B27: 2. General Information | C27: Residential Loans | D27: Commercial Loans | F27: Total Mortgages
A28: M.7.2.1 | B28: Number of mortgage loans | C28: =15766 -> 15766 | D28: ND2 | F28: =C28 -> 15766
A29: OM.7.2.1 | B29: Optional information eg, Number of borrowers | C29: 27110 | F29: =SUM(C29:D29) -> 27110
A30: OM.7.2.2 | B30: Optional information eg, Number of guarantors
A31: OM.7.2.3
A32: OM.7.2.4
A33: OM.7.2.5
A34: OM.7.2.6
B35: 3. Concentration Risks | C35: % Residential Loans | D35: % Commercial Loans | F35: % Total Mortgages
A36: M.7.3.1 | B36: 10 largest exposures | C36: =7937620.74/C12 -> 0.0026620029 | D36: ND2 | F36: =7937620.74/(C12+C13+C14) -> 0.0026620029
A37: OM.7.3.1
A38: OM.7.3.2
A39: OM.7.3.3
A40: OM.7.3.4
A41: OM.7.3.5
A42: OM.7.3.6
B43: 4. Breakdown by Geography | C43: % Residential Loans | D43: % Commercial Loans | F43: % Total Mortgages
...

Sheet C. HTT Harmonised Glossary
A1: C. Harmonised Transparency Template - Glossary
A3: The definitions below reflect the national specificities
A5: Field Number | B5: 1. Glossary - Standard Harmonised Items | C5: [Insert Definition Below]
A6: HG.1.1 | B6: OC Calculation: Actual
A7: HG.1.2 | B7: OC Calculation: Legal minimum
A8: HG.1.3 | B8: OC Calculation: Committed
A9: HG.1.4 | B9: Interest Rate Types
A10: HG.1.5 | B10: Maturity Buckets of Cover assets [i.e. how is the contractual and/or expected maturity defined? What assumptions eg, in terms of prepayments? etc.]
A11: HG.1.6 | B11: Maturity Buckets of Covered Bonds [i.e. how is the contractual and/or expected maturity defined? What maturity structure (hard bullet, soft bullet, conditional pass through)? Under what conditions/circumstances? Etc.]
A12: HG.1.7 | B12: LTVs: Definition
A13: HG.1.8 | B13: LTVs: Calculation of property/shipping value
A14: HG.1.9 | B14: LTVs: Applied property/shipping valuation techniques, including whether use of index, Automated Valuation Model (AVM) or on-site audits
A15: HG.1.10 | B15: LTVs: Frequency and time of last valuation
A16: HG.1.11 | B16: Explain how mortgage types are defined whether for residential housing, multi-family housing, commercial real estate, etc. Same for shipping where relecvant
A17: HG.1.12 | B17: Hedging Strategy (please explain how you address interest rate and currency risk)
... A19: OHG.1.1 | B19: NPV assumptions (when stated)
A20: OHG.1.2
A21: OHG.1.3
A22: OHG.1.4
A23: OHG.1.5
B24: 2. Reason for No Data | C24: Value
A25: HG.2.1 | B25: Not applicable for the jurisdiction | C25: ND1
A26: HG.2.2 | B26: Not relevant for the issuer and/or CB programme at the present time | C26: ND2
A27: HG.2.3 | B27: Not available at the present time | C27: ND3
A28: HG.2.1
A29: OHG.2.1
A30: OHG.2.2
B31: 3. Glossary - Extra national and/or Issuer Items | C31: [Insert Definition Below]
A32: HG.3.1 | B32: Other definitions deemed relevant
A33: OHG.3.1
A34: OHG.3.2
A35: OHG.3.3
A36: OHG.3.4
A37: OHG.3.5
